BEGIN:VCALENDAR
VERSION:2.0
CALSCALE:GREGORIAN
METHOD:PUBLISH
PRODID://FAME//132191
BEGIN:VEVENT
DTSTAMP:20260421T161329
VTIMEZONE:America/Chicago
DTSTART:20190510T160000Z
DTEND:20190510T183000Z
UID:132191
SUMMARY:Professional Series "Managing Your Brand"
LOCATION:First Floor Training Room, 301 Congress Ave, Austin, TX, 78701
DESCRIPTION:Professional Series "Managing Your Brand"\n\n05/10/19 11:00 AM CST\n - 05/10/19 01:30 PM CST\Description:\nIn business, our brand is what precedes us in meetings, conversations and relationships.  Opting out of a personal brand is nearly impossible. So, if you have been waiting for the perfect moment to jump in and manage your personal brand, wait no longer. A strong personal brand is attainable, so take time to invest in your brand by participating in this workshop to formulate your strategy to maximize your personal brand value.\n \nParticipants will explore the power of a brand, learn how to package your brand to manage perceptions and build credibility to open doors for opportunities.\n \nLEARNING OBJECTIVES\n\n	Learn the power of personal branding\n\n\n\n	Learn how to manage perceptions through sensory perception—how people view you\n\n\n\n	Develop strategies to increase your market value by elevating your personal brand through visibility and credibility\n\n\n\n	Learn how to manage your brand through social media, communications and appearance.\n\n\nINSTRUCTOR:\n\nJulie Brand Lynch\nChief Talent Officer & Adjunct Professor\nLynous Talent Management\Details:\nREGISTRATION:\n\n$27.00 for members\nThis event is not open to non-members\nLunch will be provided\nParking will be validated\Location:\nFirst Floor Training Room\n301 Congress Ave\nAustin, TX 78701
X-ALT-DESC;FMTTYPE=text/html:Professional Series "Managing Your Brand"<br /><br />05/10/19 11:00 AM CST - 05/10/19 01:30 PM CST<br />Description:<br />In business, our brand is what precedes us in meetings, conversations and relationships.&nbsp; Opting out of a personal brand is nearly impossible. So, if you have been waiting for the perfect moment to jump in and manage your personal brand, wait no longer. A strong personal brand is attainable, so take time to invest in your brand by participating in this workshop to formulate your strategy to maximize your personal brand value.<br />
&nbsp;<br />
Participants will explore the power of a brand, learn how to package your brand to manage perceptions and build credibility to open doors for opportunities.<br />
&nbsp;<br />
LEARNING OBJECTIVES
<ul>
	<li>Learn the power of personal branding</li>
</ul>

<ul>
	<li>Learn how to manage perceptions through sensory perception&mdash;how people view you</li>
</ul>

<ul>
	<li>Develop strategies to increase your market value by elevating your personal brand through visibility and credibility</li>
</ul>

<ul>
	<li>Learn how to manage your brand through social media, communications and appearance.</li>
</ul>
<br />
<strong>INSTRUCTOR:</strong><br />
<br />
Julie Brand Lynch<br />
Chief Talent Officer &amp; Adjunct Professor<br />
Lynous Talent Management<br />Details:<br /><strong>REGISTRATION:</strong><br />
<br />
$27.00 for members<br />
This event is not open to non-members<br />
Lunch will be provided<br />
Parking will be validated<br />Location:<br />First Floor Training Room<br />301 Congress Ave<br />Austin, TX 78701
PRIORITY:3
TRANSP:TRANSPARENT
BEGIN:VALARM
TRIGGER:-PT5M
ACTION:DISPLAY
DESCRIPTION:Reminder
END:VALARM
END:VEVENT
END:VCALENDAR
