BEGIN:VCALENDAR
VERSION:2.0
CALSCALE:GREGORIAN
METHOD:PUBLISH
PRODID://FAME//206399
BEGIN:VEVENT
DTSTAMP:20260425T103825
VTIMEZONE:America/Chicago
DTSTART:20260623T163000Z
DTEND:20260623T173000Z
UID:206399
SUMMARY:Committee: Programs/Luncheons
LOCATION:Meeting locations will vary between in-person & online, TX
DESCRIPTION:Committee: Programs/Luncheons\n\n06/23/26 11:30 AM CST\n - 06/23/26 12:30 PM CST\Description:\nThis committee assists with planning of the speakers and topics for our monthly luncheons.\n* To receive notifications for meetings & locations please sign up to be on the committee following instructions found here.\n\Location:\nMeeting locations will vary between in-person & online\n\n, TX
X-ALT-DESC;FMTTYPE=text/html:Committee: Programs/Luncheons<br /><br />06/23/26 11:30 AM CST - 06/23/26 12:30 PM CST<br />Description:<br />This committee assists with planning of the speakers and topics for our monthly luncheons.
<p>* To receive notifications for meetings &amp; locations please sign up to be on the committee following instructions found <a href="https://aafame.org/committee_volunteer.php" target="_blank">here.</a></p>
<br />Location:<br />Meeting locations will vary between in-person & online<br /><br />, TX 
PRIORITY:3
TRANSP:TRANSPARENT
BEGIN:VALARM
TRIGGER:-PT5M
ACTION:DISPLAY
DESCRIPTION:Reminder
END:VALARM
END:VEVENT
END:VCALENDAR
